BEGIN:VCALENDAR
VERSION:2.0
PRODID:-//wp-events-plugin.com//7.2.3.1//EN
TZID:Europe/Paris
X-WR-TIMEZONE:Europe/Paris
BEGIN:VEVENT
UID:1457@personnes-agees.cd25.fr
DTSTART;TZID=Europe/Paris:20260430T143000
DTEND;TZID=Europe/Paris:20260430T173000
DTSTAMP:20260304T102937Z
URL:https://personnes-agees.cd25.fr/evenements/alzheimer-formation-des-aid
 ants/
SUMMARY:Alzheimer : Formation des Aidants
DESCRIPTION:Vous aider à faire face à la maladie\n&nbsp\;\n\nParce qu'un 
 malade\, c'est toute une famille qui a besoin d'aide\, France Alzheimer Do
 ubs vous propose une formation\, pour vous offrir des clés de compréhens
 ion et des outils concrets\, afin de préserver le lien entre malade et ai
 dant.\n\nCette formation est co-animée par une psychologue et un bénévo
 le ayant accompagné un proche malade. Elle permet d’aborder les enjeux 
 du quotidien à toutes les étapes de la maladie : comprendre les troubles
 \, communiquer autrement\, préserver l’équilibre familial\, s’orient
 er dans les dispositifs d’aide…\n\nFormation de 14 h\, réparties sur 
 5 demi-journées.\n7 modules pour apporter des réponses concrètes à tou
 tes les étapes de la maladie.\n1 guide d'accompagnement en ligne.\n\nUne 
 aide financière pour la prise en charge du proche pendant la formation pe
 ut être sollicitée.\n\nGratuit\, pour les personnes adhérant à l'assoc
 iation France Alzheimer Doubs\, sur inscription avant le 10 avril 2026.\n\
 n&nbsp\;\n\nInformations et inscriptions :\n\nFrance Alzheimer Doubs\ntél
 . : 03 81 88 00 59\ncontact25@francealzheimer.org
ATTACH;FMTTYPE=image/jpeg:https://personnes-agees.cd25.fr/wp-content/uploa
 ds/2024/07/categorie-aide.png
CATEGORIES:Aide aux aidants
LOCATION:Salle des Fêtes\, 2 place de l'Hôtel de Ville\, MORTEAU\, 25500\
 , Zone Pontarlier\, France
X-APPLE-STRUCTURED-LOCATION;VALUE=URI;X-ADDRESS=2 place de l'Hôtel de Vill
 e\, MORTEAU\, 25500\, Zone Pontarlier\, France;X-APPLE-RADIUS=100;X-TITLE=
 Salle des Fêtes:geo:0,0
END:VEVENT
BEGIN:VTIMEZONE
TZID:Europe/Paris
X-LIC-LOCATION:Europe/Paris
BEGIN:DAYLIGHT
DTSTART:20260329T030000
TZOFFSETFROM:+0100
TZOFFSETTO:+0200
TZNAME:CEST
END:DAYLIGHT
END:VTIMEZONE
END:VCALENDAR