BEGIN:VCALENDAR
VERSION:2.0
PRODID:-//wp-events-plugin.com//7.2.3.1//EN
TZID:Europe/Paris
X-WR-TIMEZONE:Europe/Paris
BEGIN:VEVENT
UID:1025@personnes-agees.cd25.fr
DTSTART;TZID=Europe/Paris:20260612T140000
DTEND;TZID=Europe/Paris:20260612T153000
DTSTAMP:20251125T090750Z
URL:https://personnes-agees.cd25.fr/evenements/apres-midi-partage-7/
SUMMARY:Après-midi Part'âge
DESCRIPTION:Socioesthétique\n&nbsp\;\n\n« Part’âge »\, un programme g
 ratuit d’animations pour les habitants du territoire\,  proposé par la
  Communauté de Communes du Plateau du Russey\, en partenariat avec la Com
 munauté Professionnelle Territoriale de Santé du Pays Horloger\, le Cont
 rat Local de Santé du Pays du Haut-Doubs et du Pays Horloger et France Se
 rvices.\n\nDes après-midi conviviaux pour rompre l'isolement des personne
 s âgées de plus de 60 ans : ateliers bien-être\, prévention santé\, a
 ctivités ludiques et créatives.\n\nUn rendez-vous mensuel pour tisser de
 s liens\, partager et vivre des moments chaleureux.\n\nGratuit\, sur inscr
 iption.\n\n&nbsp\;\n\nInformations et inscriptions :\n\nEspace France Serv
 ices :\ntél. : 09 82 21 55 10\nmail : franceservices@cc-russey.fr\n\n&nbs
 p\;\n\n&nbsp\;
ATTACH;FMTTYPE=image/jpeg:https://personnes-agees.cd25.fr/wp-content/uploa
 ds/2024/07/categorie-rencontres.png
CATEGORIES:Culture, loisirs,Rencontres
LOCATION:Maison des Services\, 17 avenue de Lattre de Tassigny\, LE RUSSEY\
 , 25210\, Zone Pontarlier\, France
X-APPLE-STRUCTURED-LOCATION;VALUE=URI;X-ADDRESS=17 avenue de Lattre de Tass
 igny\, LE RUSSEY\, 25210\, Zone Pontarlier\, France;X-APPLE-RADIUS=100;X-T
 ITLE=Maison des Services:geo:0,0
END:VEVENT
BEGIN:VTIMEZONE
TZID:Europe/Paris
X-LIC-LOCATION:Europe/Paris
BEGIN:DAYLIGHT
DTSTART:20260329T030000
TZOFFSETFROM:+0100
TZOFFSETTO:+0200
TZNAME:CEST
END:DAYLIGHT
END:VTIMEZONE
END:VCALENDAR