BEGIN:VCALENDAR
VERSION:2.0
PRODID:-//wp-events-plugin.com//7.2.3.1//EN
TZID:Europe/Paris
X-WR-TIMEZONE:Europe/Paris
BEGIN:VEVENT
UID:1451@personnes-agees.cd25.fr
DTSTART;TZID=Europe/Paris:20261001T140000
DTEND;TZID=Europe/Paris:20261001T163000
DTSTAMP:20260304T092446Z
URL:https://personnes-agees.cd25.fr/evenements/atelier-de-musicotherapie-1
 2/
SUMMARY:Atelier de musicothérapie
DESCRIPTION:Atelier à médiation artistique\n&nbsp\;\n\nFrance Alzheimer D
 oubs vous propose un atelier de musicothérapie dédié aux personnes à u
 n stade débutant ou modéré de la maladie\, sans troubles majeurs du com
 portement.\n\nL’atelier à médiation artistique est une activité qui f
 avorise l’expression des capacités préservées\, la vie relationnelle 
 et émotionnelle ainsi que la créativité de chacun. Qu’il s’agisse d
 e la musique (chant\, écoute musicale\, utilisation d’un instrument...)
 \, des arts plastiques (peinture\, découpage\, collage...)\, du théâtre
  (improvisation\, mime\, mise en scène du vécu...)\, de la danse ou de l
 a photographie\, ces médiations sensitives sont particulièrement adapté
 es aux personnes atteintes de la maladie d’Alzheimer ou d'une maladie ap
 parentée.\n\nL'atelier\, d'une durée de 2 h 30 (accueil\, 1h30 d'activit
 é et goûter)\, est animé par un artiste et/ou professionnel formé à l
 'art-thérapie et concerne en général un groupe de 5 à 7 participants. 
 Aucune expérience artistique n'est requise.\n\nObjectifs :\n\n 	Maintenir
  le lien social\, favoriser les rencontres et les échanges.\n 	Faire appe
 l aux capacités à ressentir\, à percevoir\, à exprimer des émotions\,
  à créer\n 	Mobiliser et maintenir les capacités cognitives.\n 	Valoris
 er et augmenter la confiance et l’estime de soi.\n 	Procurer du plaisir 
 et du bien-être\, de la détente et de la convivialité.\n\nGratuit\, pou
 r les personnes adhérant à l'association France Alzheimer Doubs\n\n&nbsp
 \;\n\nInformations et inscriptions :\n\nFrance Alzheimer Doubs\ntél. : 03
  81 88 00 59\ncontact25@francealzheimer.org
ATTACH;FMTTYPE=image/jpeg:https://personnes-agees.cd25.fr/wp-content/uploa
 ds/2024/07/categorie-bien-etre.png
CATEGORIES:Bien-être, santé,Rencontres
LOCATION:France Alzheimer Doubs\, 2 rue Kepler\, BESANCON\, 25000\, Zone Be
 sançon\, France
X-APPLE-STRUCTURED-LOCATION;VALUE=URI;X-ADDRESS=2 rue Kepler\, BESANCON\, 2
 5000\, Zone Besançon\, France;X-APPLE-RADIUS=100;X-TITLE=France Alzheimer
  Doubs:geo:0,0
END:VEVENT
BEGIN:VTIMEZONE
TZID:Europe/Paris
X-LIC-LOCATION:Europe/Paris
BEGIN:DAYLIGHT
DTSTART:20260329T030000
TZOFFSETFROM:+0100
TZOFFSETTO:+0200
TZNAME:CEST
END:DAYLIGHT
END:VTIMEZONE
END:VCALENDAR