BEGIN:VCALENDAR
VERSION:2.0
PRODID:-//wp-events-plugin.com//7.2.3.1//EN
TZID:Europe/Paris
X-WR-TIMEZONE:Europe/Paris
BEGIN:VEVENT
UID:693@personnes-agees.cd25.fr
DTSTART;TZID=Europe/Paris:20260506T100000
DTEND;TZID=Europe/Paris:20260506T120000
DTSTAMP:20250909T151249Z
URL:https://personnes-agees.cd25.fr/evenements/ateliers-prevention-retrait
 e-57/
SUMMARY:Ateliers Prévention Retraite
DESCRIPTION:Atelier mémoire\nComprendre le fonctionnement de la mémoire e
 t découvrir des astuces simples pour la préserver.\n\nAu programme : con
 seils\, jeux et exercices pour garder l'esprit vif\, dans une ambiance con
 viviale.\n\nSéance collective proposée par la Mission Seniors UFCV Bourg
 ogne Franche-Comté.\n\nGratuit\, sur inscription.\n\nTransport possible s
 ur demande à l'inscription.\n\n&nbsp\;\n\nRenseignements et inscriptions 
 :\n\nMission Seniors UFCV Bourgogne Franche-Comté\nTél. : 07 83 61 05 54
 \nMail : animation-seniors.bfc@ufcv.fr\n\n&nbsp\;
ATTACH;FMTTYPE=image/jpeg:https://personnes-agees.cd25.fr/wp-content/uploa
 ds/2024/07/categorie-bien-etre.png
CATEGORIES:Bien-être, santé
LOCATION:Maison Develçoise - Salle 4\, Rue de Voray\, DEVECEY\, 25870\, Zo
 ne Besançon\, France
X-APPLE-STRUCTURED-LOCATION;VALUE=URI;X-ADDRESS=Rue de Voray\, DEVECEY\, 25
 870\, Zone Besançon\, France;X-APPLE-RADIUS=100;X-TITLE=Maison Develçois
 e - Salle 4:geo:0,0
END:VEVENT
BEGIN:VTIMEZONE
TZID:Europe/Paris
X-LIC-LOCATION:Europe/Paris
BEGIN:DAYLIGHT
DTSTART:20260329T030000
TZOFFSETFROM:+0100
TZOFFSETTO:+0200
TZNAME:CEST
END:DAYLIGHT
END:VTIMEZONE
END:VCALENDAR