BEGIN:VCALENDAR
VERSION:2.0
PRODID:-//wp-events-plugin.com//7.2.3.1//EN
TZID:Europe/Paris
X-WR-TIMEZONE:Europe/Paris
BEGIN:VEVENT
UID:987@personnes-agees.cd25.fr
DTSTART;TZID=Europe/Paris:20260504T144500
DTEND;TZID=Europe/Paris:20260504T153000
DTSTAMP:20251023T074956Z
URL:https://personnes-agees.cd25.fr/evenements/bien-dans-mon-corps-48/
SUMMARY:Bien dans mon corps...
DESCRIPTION:Equilibre coordination\n&nbsp\;\n\nEnvie de rencontrer du monde
 \, de vous défouler ?\n\nLa MJC Saint-Exupéry vous propose des activité
 s physiques adaptées à petit prix\, toute l'année.\n\nTarif unique : 5 
 € par session\n\n&nbsp\;\n\nInformations et inscriptions :\n\nMJC  Sain
 t-Exupéry Centre social\ntél. 03 81 34 36 54\nmail : mjc.stexupery25@gm
 ail.com\n\naccès bus : ligne n°2\, arrêt Combe Mirey
ATTACH;FMTTYPE=image/jpeg:https://personnes-agees.cd25.fr/wp-content/uploa
 ds/2024/09/categorie-sports.png
CATEGORIES:Activités physiques,Bien-être, santé,Rencontres
LOCATION:MJC Saint-Exupéry Audincourt\, 72 avenue du 8 Mai 1945\, AUDINCOU
 RT\, 25400\, France
X-APPLE-STRUCTURED-LOCATION;VALUE=URI;X-ADDRESS=72 avenue du 8 Mai 1945\, A
 UDINCOURT\, 25400\, France;X-APPLE-RADIUS=100;X-TITLE=MJC Saint-Exupéry A
 udincourt:geo:0,0
END:VEVENT
BEGIN:VTIMEZONE
TZID:Europe/Paris
X-LIC-LOCATION:Europe/Paris
BEGIN:DAYLIGHT
DTSTART:20260329T030000
TZOFFSETFROM:+0100
TZOFFSETTO:+0200
TZNAME:CEST
END:DAYLIGHT
END:VTIMEZONE
END:VCALENDAR