BEGIN:VCALENDAR
VERSION:2.0
PRODID:-//wp-events-plugin.com//7.2.3.1//EN
TZID:Europe/Paris
X-WR-TIMEZONE:Europe/Paris
BEGIN:VEVENT
UID:1123@personnes-agees.cd25.fr
DTSTART;TZID=Europe/Paris:20260603T100000
DTEND;TZID=Europe/Paris:20260603T120000
DTSTAMP:20260224T160433Z
URL:https://personnes-agees.cd25.fr/evenements/fete-du-lien-2/
SUMMARY:Fête du Lien
DESCRIPTION:En finir avec l’isolement et préserver une vie sociale épan
 ouie\n&nbsp\;\n\nL’atelier « Fête du lien » propose des outils pratiq
 ues et des stratégies concrètes pour renforcer vos relations sociales à
  la retraite et élargir votre cercle d’interactions.\n\nÀ travers des 
 activités interactives\, des mises en situation et des discussions enrich
 issantes\, vous apprendrez à maintenir des relations positives\, à abord
 er les autres avec bienveillance et à créer un climat propice aux échan
 ges.\n\nCet atelier vous invite à transformer la retraite en une phase de
  vie dynamique et conviviale\, où la chaleur humaine et les moments parta
 gés redeviennent des priorités.\n\nParticipez à cet atelier et faites d
 e votre retraite une période synonyme de joie\, de rencontres et de convi
 vialité.\n\nDurée : 4 séances en présentiel\n\nGratuit\, sur inscripti
 on.\n\n&nbsp\;\n\nInformations et inscriptions :\n\nTél. 03 81 25 17 60\n
 lesbonsjours25@bfc.mutualite.fr\n\nwww.happyvisio.com\n\n&nbsp\;\n\n&nbsp\
 ;
ATTACH;FMTTYPE=image/jpeg:https://personnes-agees.cd25.fr/wp-content/uploa
 ds/2024/07/categorie-rencontres.png
CATEGORIES:Bien-être, santé,Rencontres
LOCATION:Espace Domon (Espace Seniors)\, 12 Rue Claude Debussy\, MONTBELIAR
 D\, 25200\, Zone Montbéliard\, France
X-APPLE-STRUCTURED-LOCATION;VALUE=URI;X-ADDRESS=12 Rue Claude Debussy\, MON
 TBELIARD\, 25200\, Zone Montbéliard\, France;X-APPLE-RADIUS=100;X-TITLE=E
 space Domon (Espace Seniors):geo:0,0
END:VEVENT
BEGIN:VTIMEZONE
TZID:Europe/Paris
X-LIC-LOCATION:Europe/Paris
BEGIN:DAYLIGHT
DTSTART:20260329T030000
TZOFFSETFROM:+0100
TZOFFSETTO:+0200
TZNAME:CEST
END:DAYLIGHT
END:VTIMEZONE
END:VCALENDAR