BEGIN:VCALENDAR
VERSION:2.0
PRODID:-//wp-events-plugin.com//7.2.3.1//EN
TZID:Europe/Paris
X-WR-TIMEZONE:Europe/Paris
BEGIN:VEVENT
UID:919@personnes-agees.cd25.fr
DTSTART;TZID=Europe/Paris:20260430T143000
DTEND;TZID=Europe/Paris:20260430T173000
DTSTAMP:20260319T105708Z
URL:https://personnes-agees.cd25.fr/evenements/formation-aidants-maladie-d
 alzheimer-2/
SUMMARY:Formation aidants - maladie d'Alzheimer
DESCRIPTION:Connaître et comprendre la maladie\, aider et se faire aider..
 .\nLa maladie d'Alzheimer ou les maladies apparentées touchent un nombre 
 croissant de familles et bouleversent profondément la vie des proches aid
 ants. Pour vous offrir des clés de compréhension et des outils concrets\
 , France Alzheimer Doubs organise une formation gratuite destinée aux aid
 ants\, pour mieux faire face à cette maladie.\n\nCo-animée par une psych
 ologue et un bénévole ayant accompagné un proche malade\, cette formati
 on permet d'aborder les enjeux du quotidien à toutes les étapes de la ma
 ladie :\n\n 	comprendre les troubles\n 	communiquer autrement\n 	préserve
 r l'équilibre familial\n 	s'orienter dans les dispositifs d'aide\n\n15 he
 ures réparties sur 5 demi-journées\, le jeudi à compter du 30 avril 202
 6.\n\nGratuit\, sur inscription avant le 10 avril 2026.\n\n&nbsp\;\n\nInfo
 rmations et inscriptions :\n\nTél. : 03 81 88 00 59 ou 06 70 92 02 69\n\n
 Plus d'informations : www.francealzheimer.org/doubs
ATTACH;FMTTYPE=image/jpeg:https://personnes-agees.cd25.fr/wp-content/uploa
 ds/2024/07/categorie-aide.png
CATEGORIES:Aide aux aidants
END:VEVENT
BEGIN:VTIMEZONE
TZID:Europe/Paris
X-LIC-LOCATION:Europe/Paris
BEGIN:DAYLIGHT
DTSTART:20260329T030000
TZOFFSETFROM:+0100
TZOFFSETTO:+0200
TZNAME:CEST
END:DAYLIGHT
END:VTIMEZONE
END:VCALENDAR