BEGIN:VCALENDAR
VERSION:2.0
PRODID:-//wp-events-plugin.com//7.2.3.1//EN
TZID:Europe/Paris
X-WR-TIMEZONE:Europe/Paris
BEGIN:VEVENT
UID:1463@personnes-agees.cd25.fr
DTSTART;TZID=Europe/Paris:20260617T100000
DTEND;TZID=Europe/Paris:20260617T120000
DTSTAMP:20260305T094852Z
URL:https://personnes-agees.cd25.fr/evenements/la-nutrition-ou-en-etes-vou
 s-3/
SUMMARY:La nutrition\, où en êtes-vous ?
DESCRIPTION:Bien manger pour mieux vivre\n&nbsp\;\n\nDes professionnels de 
 santé vous aident à trouver les bonnes informations pour bien manger à 
 tout âge et pour mieux bouger.\n\nAtelier de 9 séances de 2h.\n\nObjecti
 fs :\n\n– Comprendre les apports nutritionnels essentiels\,\n– Compos
 er des repas équilibrés pour préserver la vitalité\,\n– Identifier e
 t éviter les carences nutritionnelles courantes.\n\nOrganisé par la Mutu
 alité Française Bourgogne Franche-Comté\, Antenne du Doubs\, dans le ca
 dre des Ateliers Bons Jours.\nA contacter pour toutes précisions relative
 s au contenu et au planning des séances.\n\nGratuit\, sur inscription.\n\
 n&nbsp\;\n\nInformations et inscriptions :\n\n\nTél. 03 81 25 17 60\nlesb
 onsjours25@bfc.mutualite.fr
ATTACH;FMTTYPE=image/jpeg:https://personnes-agees.cd25.fr/wp-content/uploa
 ds/2024/07/categorie-bien-etre.png
CATEGORIES:Bien-être, santé
LOCATION:Mairie\, 2 rue des Damas\, VANDONCOURT\, 25230\, Zone Montbéliard
 \, France
X-APPLE-STRUCTURED-LOCATION;VALUE=URI;X-ADDRESS=2 rue des Damas\, VANDONCOU
 RT\, 25230\, Zone Montbéliard\, France;X-APPLE-RADIUS=100;X-TITLE=Mairie:
 geo:0,0
END:VEVENT
BEGIN:VTIMEZONE
TZID:Europe/Paris
X-LIC-LOCATION:Europe/Paris
BEGIN:DAYLIGHT
DTSTART:20260329T030000
TZOFFSETFROM:+0100
TZOFFSETTO:+0200
TZNAME:CEST
END:DAYLIGHT
END:VTIMEZONE
END:VCALENDAR