BEGIN:VCALENDAR
VERSION:2.0
PRODID:-//wp-events-plugin.com//7.2.3.1//EN
TZID:Europe/Paris
X-WR-TIMEZONE:Europe/Paris
BEGIN:VEVENT
UID:1101@personnes-agees.cd25.fr
DTSTART;TZID=Europe/Paris:20260602T140000
DTEND;TZID=Europe/Paris:20260602T170000
DTSTAMP:20260204T131628Z
URL:https://personnes-agees.cd25.fr/evenements/ma-pause-aidante-2-2026-06-
 02/
SUMMARY:Ma Pause Aidante
DESCRIPTION:Espace d'écoute\, de rencontre et de soutien aux aidants\n \n
 \nLa Plateforme Répit Aidants du Grand Besançon/Doubs Central vous propo
 se un espace convivial tous les mardi après-midi\, pour l'écoute et le s
 outien des aidants.\n\nUn lieu pour se ressourcer et rencontrer d'autres a
 idants.\n\n&nbsp\;\n\nGratuit et sans inscription.\n\nAccès transports en
  commun :\nTram 1 et 2 - arrêt "Polygone"\nBus 9 arrêt "Polygone"
ATTACH;FMTTYPE=image/jpeg:https://personnes-agees.cd25.fr/wp-content/uploa
 ds/2024/07/categorie-aide.png
CATEGORIES:Aide aux aidants
LOCATION:ELIAD\, 18 Boulevard Charles de Gaulle\, BESANCON\, 25000\, Zone B
 esançon\, France
X-APPLE-STRUCTURED-LOCATION;VALUE=URI;X-ADDRESS=18 Boulevard Charles de Gau
 lle\, BESANCON\, 25000\, Zone Besançon\, France;X-APPLE-RADIUS=100;X-TITL
 E=ELIAD:geo:0,0
END:VEVENT
BEGIN:VTIMEZONE
TZID:Europe/Paris
X-LIC-LOCATION:Europe/Paris
BEGIN:DAYLIGHT
DTSTART:20260329T030000
TZOFFSETFROM:+0100
TZOFFSETTO:+0200
TZNAME:CEST
END:DAYLIGHT
END:VTIMEZONE
END:VCALENDAR