BEGIN:VCALENDAR
VERSION:2.0
PRODID:-//wp-events-plugin.com//7.2.3.1//EN
TZID:Europe/Paris
X-WR-TIMEZONE:Europe/Paris
BEGIN:VEVENT
UID:1266@personnes-agees.cd25.fr
DTSTART;TZID=Europe/Paris:20270413T151500
DTEND;TZID=Europe/Paris:20270413T161500
DTSTAMP:20260225T140110Z
URL:https://personnes-agees.cd25.fr/evenements/parcours-equilibre-preventi
 on-des-chutes-2-2026-03-03-2026-03-10-2026-03-17-2026-03-24-2026-03-31-202
 6-04-07-2026-04-14-2026-04-21-2026-04-28-2026-05-05-2026-05-12-2026-05-19-
 2026-05-26-06-2027-04-13/
SUMMARY:Parcours équilibre & prévention des chutes
DESCRIPTION:Chez Cap APA Santé\, association le Don Du Souffle\n&nbsp\;\n\
 nL'Association "le Don Du Souffle" à travers sa Maison Sport Santé Cap A
 PA Santé\, soutenue par l'ARS Bourgogne Franche-Comté\, vous propose un 
 programme de prévention des chutes\, réservé aux personnes de plus de 5
 0 ans.\n\nAu programme :\n\n• Renforcement musculaire du pied\, des jamb
 es\, de la sangle abdominale et du dos.\n• Travail de proprioception\, d
 e posture et de positionnement du corps dans l’espace.\n• Travail de s
 ensibilité du pied et de relevé du sol.\n\n2 séances par semaine sur 4 
 créneaux hebdomadaires :\n\n• Lundi 9h15-10h15\n• Mardi 15h15-16h15\n
 • Jeudi 15h15-16h15\n• Vendredi 9h45-10h45\n\nInscription obligatoire 
 à au moins 2 séances hebdomadaires.\n\nAbonnement annuel : 28 €/mois (
 si prise en charge du Réseau Sport Santé\, contacter l'association)\nCar
 te 10 séances : 100 €\nUn bilan d'1 h 15 offert en amont pour détermin
 er les enjeux individuels\, les points forts et les points à travailler.\
 n\n&nbsp\;\n\nContact et inscriptions :\n\nTél. : 03 63 08 51 59 ou 06 40
  97 45 11\nMail : contact@capapasante.org
ATTACH;FMTTYPE=image/jpeg:https://personnes-agees.cd25.fr/wp-content/uploa
 ds/2024/09/categorie-sports.png
CATEGORIES:Activités physiques,Bien-être, santé
LOCATION:Association le Don Du Souffle\, 1 esplanade du Professeur Françoi
 s Barale\, BESANCON\, DOUBS\, 25000\, Zone Besançon\, France
X-APPLE-STRUCTURED-LOCATION;VALUE=URI;X-ADDRESS=1 esplanade du Professeur F
 rançois Barale\, BESANCON\, DOUBS\, 25000\, Zone Besançon\, France;X-APP
 LE-RADIUS=100;X-TITLE=Association le Don Du Souffle:geo:0,0
END:VEVENT
BEGIN:VTIMEZONE
TZID:Europe/Paris
X-LIC-LOCATION:Europe/Paris
BEGIN:DAYLIGHT
DTSTART:20270328T030000
TZOFFSETFROM:+0100
TZOFFSETTO:+0200
TZNAME:CEST
END:DAYLIGHT
END:VTIMEZONE
END:VCALENDAR