BEGIN:VCALENDAR
VERSION:2.0
PRODID:-//wp-events-plugin.com//7.2.3.1//EN
TZID:Europe/Paris
X-WR-TIMEZONE:Europe/Paris
BEGIN:VEVENT
UID:852@personnes-agees.cd25.fr
DTSTART;TZID=Europe/Paris:20260520T093000
DTEND;TZID=Europe/Paris:20260520T113000
DTSTAMP:20251009T131623Z
URL:https://personnes-agees.cd25.fr/evenements/pc-avance-2025/
SUMMARY:PC avancé 2025
DESCRIPTION:Module 5 : détente et divertissement ou révisions\n&nbsp\;\n\
 nLa Maison pour Tous\, association de gestion des actions socio-culturelle
 s\, de Bavans vous propose des séances de découverte et/ou d'accompagnem
 ent dans l'utilisation des nouvelles technologies.\n\nA l'issue des diffé
 rents modules\, ce programme sera à construire ensemble.\n\n&nbsp\;\n\nRe
 trouvez le programme complet des séances ci-dessous\, à télécharger.\n
 \n&nbsp\;\n\nContact et inscriptions :\n\nMaison pour tous - tél. :  03.
 81.92.64.25\nMail : assos.gestion@wanadoo.fr
ATTACH;FMTTYPE=image/jpeg:https://personnes-agees.cd25.fr/wp-content/uploa
 ds/2024/07/categorie-communications.png
CATEGORIES:Communication, nouvelles technologies
LOCATION:Maison pour Tous\, 41 Grande rue\, BAVANS\, 25550\, Zone Montbéli
 ard\, France
X-APPLE-STRUCTURED-LOCATION;VALUE=URI;X-ADDRESS=41 Grande rue\, BAVANS\, 25
 550\, Zone Montbéliard\, France;X-APPLE-RADIUS=100;X-TITLE=Maison pour To
 us:geo:0,0
END:VEVENT
BEGIN:VTIMEZONE
TZID:Europe/Paris
X-LIC-LOCATION:Europe/Paris
BEGIN:DAYLIGHT
DTSTART:20260329T030000
TZOFFSETFROM:+0100
TZOFFSETTO:+0200
TZNAME:CEST
END:DAYLIGHT
END:VTIMEZONE
END:VCALENDAR