BEGIN:VCALENDAR
VERSION:2.0
PRODID:-//wp-events-plugin.com//7.2.3.1//EN
TZID:Europe/Paris
X-WR-TIMEZONE:Europe/Paris
BEGIN:VEVENT
UID:653@personnes-agees.cd25.fr
DTSTART;TZID=Europe/Paris:20260504T143000
DTEND;TZID=Europe/Paris:20260504T160000
DTSTAMP:20250827T084058Z
URL:https://personnes-agees.cd25.fr/evenements/rendez-vous-des-aidants-49/
SUMMARY:Rendez-vous des aidants
DESCRIPTION:Comment travailler la séparation ?\n&nbsp\;\n\nVous accompagne
 z régulièrement ou occasionnellement un proche malade\, âgé ou en situ
 ation de handicap ? Ces rendez-vous mensuels sont organisés pour vous sou
 tenir dans votre rôle d'aidant\, échanger des informations et vous offri
 r des moments de convivialité et de lien social.\n\nL'animation est assur
 ée par une psychologue autour de thématiques choisies pour favoriser l'e
 xpression et le partage d'expériences.\n\nLes séances sont gratuites\, s
 ans inscription ni engagement. Il est donc possible d'assister à la/aux s
 éance(s) de votre choix.\n\n&nbsp\;\n\n&nbsp\;\n\n&nbsp\;\n\nPour en savo
 ir plus et accéder au programme complet des activités dédiées aux aida
 nts ou découvrir les activités communes aidants/aidés proposées\, rend
 ez-vous sur : www.eliad-fc.fr
ATTACH;FMTTYPE=image/jpeg:https://personnes-agees.cd25.fr/wp-content/uploa
 ds/2024/07/categorie-aide.png
CATEGORIES:Aide aux aidants
LOCATION:Mairie\, 3 place de la République\, BAUME LES DAMES\, 25110\, Zon
 e Besançon\, France
X-APPLE-STRUCTURED-LOCATION;VALUE=URI;X-ADDRESS=3 place de la République\,
  BAUME LES DAMES\, 25110\, Zone Besançon\, France;X-APPLE-RADIUS=100;X-TI
 TLE=Mairie:geo:0,0
END:VEVENT
BEGIN:VTIMEZONE
TZID:Europe/Paris
X-LIC-LOCATION:Europe/Paris
BEGIN:DAYLIGHT
DTSTART:20260329T030000
TZOFFSETFROM:+0100
TZOFFSETTO:+0200
TZNAME:CEST
END:DAYLIGHT
END:VTIMEZONE
END:VCALENDAR