BEGIN:VCALENDAR
VERSION:2.0
PRODID:-//wp-events-plugin.com//7.2.3.1//EN
TZID:Europe/Paris
X-WR-TIMEZONE:Europe/Paris
BEGIN:VEVENT
UID:756@personnes-agees.cd25.fr
DTSTART;TZID=Europe/Paris:20260427T143000
DTEND;TZID=Europe/Paris:20260427T160000
DTSTAMP:20250910T133052Z
URL:https://personnes-agees.cd25.fr/evenements/rendez-vous-des-aidants-56/
SUMMARY:Rendez-vous des aidants
DESCRIPTION:Quelles ressources pour l’aidant ?\n&nbsp\;\n\nVous accompagn
 ez régulièrement ou occasionnellement un proche malade\, âgé ou en sit
 uation de handicap ? Ces rendez-vous mensuels sont organisés pour vous so
 utenir dans votre rôle d'aidant\, échanger des informations et vous offr
 ir des moments de convivialité et de lien social.\n\nL'animation est assu
 rée par une psychologue autour de thématiques choisies pour favoriser l'
 expression et le partage d'expériences.\n\nLes séances sont gratuites\, 
 sans inscription ni engagement. Il est donc possible d'assister à la/aux 
 séance(s) de votre choix.\n\n&nbsp\;\n\n&nbsp\;\n\n&nbsp\;\n\nPour en sav
 oir plus et accéder au programme complet des activités dédiées aux aid
 ants ou découvrir les activités communes aidants/aidés proposées\, ren
 dez-vous sur : www.eliad-fc.fr
ATTACH;FMTTYPE=image/jpeg:https://personnes-agees.cd25.fr/wp-content/uploa
 ds/2024/07/categorie-aide.png
CATEGORIES:Aide aux aidants
LOCATION:Espace Bernard Olivier\, 17 bis rue Charles de Gaulle\, SAINT-VIT\
 , 25000\, Zone Besançon\, France
X-APPLE-STRUCTURED-LOCATION;VALUE=URI;X-ADDRESS=17 bis rue Charles de Gaull
 e\, SAINT-VIT\, 25000\, Zone Besançon\, France;X-APPLE-RADIUS=100;X-TITLE
 =Espace Bernard Olivier:geo:0,0
END:VEVENT
BEGIN:VTIMEZONE
TZID:Europe/Paris
X-LIC-LOCATION:Europe/Paris
BEGIN:DAYLIGHT
DTSTART:20260329T030000
TZOFFSETFROM:+0100
TZOFFSETTO:+0200
TZNAME:CEST
END:DAYLIGHT
END:VTIMEZONE
END:VCALENDAR