BEGIN:VCALENDAR
VERSION:2.0
PRODID:-//wp-events-plugin.com//7.2.3.1//EN
TZID:Europe/Paris
X-WR-TIMEZONE:Europe/Paris
BEGIN:VEVENT
UID:777@personnes-agees.cd25.fr
DTSTART;TZID=Europe/Paris:20260619T143000
DTEND;TZID=Europe/Paris:20260619T160000
DTSTAMP:20250910T134457Z
URL:https://personnes-agees.cd25.fr/evenements/rendez-vous-des-aidants-76/
SUMMARY:Rendez-vous des aidants
DESCRIPTION:Aider\, est-ce partager ?\n&nbsp\;\n\nVous accompagnez réguli
 èrement ou occasionnellement un proche malade\, âgé ou en situation de 
 handicap ? Ces rendez-vous mensuels sont organisés pour vous soutenir dan
 s votre rôle d'aidant\, échanger des informations et vous offrir des mom
 ents de convivialité et de lien social.\n\nL'animation est assurée par u
 ne psychologue autour de thématiques choisies pour favoriser l'expression
  et le partage d'expériences.\n\nLes séances sont gratuites\, sans inscr
 iption ni engagement. Il est donc possible d'assister à la/aux séance(s)
  de votre choix.\n\n&nbsp\;\n\nAccès : bus L6 - arrêt Les Oiseaux\n\n&nb
 sp\;\n\nPour en savoir plus et accéder au programme complet des activité
 s dédiées aux aidants ou découvrir les activités communes aidants/aid
 és proposées\, rendez-vous sur : www.eliad-fc.fr
ATTACH;FMTTYPE=image/jpeg:https://personnes-agees.cd25.fr/wp-content/uploa
 ds/2024/07/categorie-aide.png
CATEGORIES:Aide aux aidants
LOCATION:Maison de la Famille (UDAF)\, 12 rue de la Famille (Salle D. Cacho
 t)\, BESANCON\, 25000\, Zone Besançon\, France
X-APPLE-STRUCTURED-LOCATION;VALUE=URI;X-ADDRESS=12 rue de la Famille (Salle
  D. Cachot)\, BESANCON\, 25000\, Zone Besançon\, France;X-APPLE-RADIUS=10
 0;X-TITLE=Maison de la Famille (UDAF):geo:0,0
END:VEVENT
BEGIN:VTIMEZONE
TZID:Europe/Paris
X-LIC-LOCATION:Europe/Paris
BEGIN:DAYLIGHT
DTSTART:20260329T030000
TZOFFSETFROM:+0100
TZOFFSETTO:+0200
TZNAME:CEST
END:DAYLIGHT
END:VTIMEZONE
END:VCALENDAR