BEGIN:VCALENDAR
VERSION:2.0
PRODID:-//wp-events-plugin.com//7.2.3.1//EN
TZID:Europe/Paris
X-WR-TIMEZONE:Europe/Paris
BEGIN:VEVENT
UID:1498@personnes-agees.cd25.fr
DTSTART;TZID=Europe/Paris:20260429T131500
DTEND;TZID=Europe/Paris:20260429T131500
DTSTAMP:20260407T084949Z
URL:https://personnes-agees.cd25.fr/evenements/ya-pas-dage-pour-marcher/
SUMMARY:Y'a pas d'âge pour marcher !
DESCRIPTION:Deux marches accompagnées\, pour tous\, au choix\n&nbsp\;\n\nL
 a Maison des Séniors du CCAS de Besançon vous invite à participer à un
  après-midi convivial et ludique\, ouvert à tout le monde\, petits et gr
 ands\, qui s'inscrit dans le cadre de la journée européenne de la solida
 rité entre les générations. Un moment de détente et de bien-être à f
 aire en famille\, entre amis ou même en solitaire.\n\nCette 10ème éditi
 on se déroulera au départ du complexe sportif Michel Vautrot\, site de l
 a Malcombe.\n\nAu programme :  2 marches et des stands d'information tout
  au long de l'après-midi.\n\n 	Défi "Tout en douceur" : Malcombe - Champ
 s Melin\, 3\,2 km\, faible dénivelé\n 	Défi "Autour de la Roche d'Or" :
  Malcombe - Velotte - Les Vallières\, 6\,8 km\, faible dénivelé\n\nInsc
 riptions pour les marches : à partir de 13 h 15\nDépart : 14 h\n\nLa buv
 ette solidaire proposera\, pour une boisson ou collation achetée\, un sou
 tien à l'association Sounvi\, portée par des étudiants en médecine\, p
 our offrir du matériel médical\, scolaire et alimentaire à des orphelin
 ats d'Asie.\n\nAccès :\nTram 1 et 2\, arrêt Malcombe\nBus\, ligne 7\, ar
 rêt Micropolis\; ligne 4\, arrêt Oratoire\nParking\n\n&nbsp\;\n\nInforma
 tions :\nMaison des Séniors : tél. 03 81 41 22 04\nMail : maison-des-sen
 iors@besancon.fr\nwww.besancon.fr \n\n&nbsp\;
ATTACH;FMTTYPE=image/jpeg:https://personnes-agees.cd25.fr/wp-content/uploa
 ds/2024/09/categorie-sports.png
CATEGORIES:Activités physiques,Bien-être, santé,Rencontres
LOCATION:Complexe sportif Michel Vautrot\, Site de la Malcombe - Avenue Fra
 nçois Mitterrand\, BESANCON\, 25000\, Zone Besançon\, France
X-APPLE-STRUCTURED-LOCATION;VALUE=URI;X-ADDRESS=Site de la Malcombe - Avenu
 e François Mitterrand\, BESANCON\, 25000\, Zone Besançon\, France;X-APPL
 E-RADIUS=100;X-TITLE=Complexe sportif Michel Vautrot:geo:0,0
END:VEVENT
BEGIN:VTIMEZONE
TZID:Europe/Paris
X-LIC-LOCATION:Europe/Paris
BEGIN:DAYLIGHT
DTSTART:20260329T030000
TZOFFSETFROM:+0100
TZOFFSETTO:+0200
TZNAME:CEST
END:DAYLIGHT
END:VTIMEZONE
END:VCALENDAR